BEGIN:VCALENDAR
VERSION:2.0
PRODID:-//SVP Villmergen - Hilfikon //NONSGML Events //EN
CALSCALE:GREGORIAN
X-WR-CALNAME:SVP Villmergen - Hilfikon
BEGIN:VEVENT
CREATED:20260121T173303Z
UID:1429
DTEND:20260308T000000
DTSTART:20260308T000000
DTSTAMP:20260420T085238Z
LOCATION:
DESCRIPTION:
SUMMARY:Abstimmung vom 8. März 2026
ORGANIZER:
URL;VALUE=URI:https://www.svp-villmergen.ch/termine/abstimmung-vom-8-maerz-2026/
TRANSP:OPAQUE
END:VEVENT
END:VCALENDAR
